BEGIN:VCALENDAR
VERSION:2.0
PRODID:-//Kitajenko - ECPv6.2.9//NONSGML v1.0//EN
CALSCALE:GREGORIAN
METHOD:PUBLISH
X-WR-CALNAME:Kitajenko
X-ORIGINAL-URL:https://www.kitajenko.com/en/
X-WR-CALDESC:Events for Kitajenko
REFRESH-INTERVAL;VALUE=DURATION:PT1H
X-Robots-Tag:noindex
X-PUBLISHED-TTL:PT1H
BEGIN:VTIMEZONE
TZID:Europe/Luxembourg
BEGIN:DAYLIGHT
TZOFFSETFROM:+0100
TZOFFSETTO:+0200
TZNAME:CEST
DTSTART:20180325T010000
END:DAYLIGHT
BEGIN:STANDARD
TZOFFSETFROM:+0200
TZOFFSETTO:+0100
TZNAME:CET
DTSTART:20181028T010000
END:STANDARD
END:VTIMEZONE
BEGIN:VEVENT
DTSTART;TZID=Europe/Luxembourg:20181112T200000
DTEND;TZID=Europe/Luxembourg:20181112T200000
DTSTAMP:20260421T135224
CREATED:20180913T071802Z
LAST-MODIFIED:20180913T072026Z
UID:812-1542052800-1542052800@www.kitajenko.com
SUMMARY:Gürzenich Orchester Köln & Xavier de Maistre
DESCRIPTION:Piotr Tchaikovsky: Serenade for Strings op. 48\nReinhold Glière: Harp Concerto op. 74\nAlexander Scriabin: Le Poème de l’Extase\nXavier de Maistre\, harp\nGürzenich Orchester Köln\nDmitrij Kitajenko
URL:https://www.kitajenko.com/en/event/guerzenich-orchester-koeln-xavier-de-maistre-2/
LOCATION:Kölner Philharmonie\, Bischofsgartenstraße 1\, Köln\, 50667\, Germany
ATTACH;FMTTYPE=image/jpeg:https://www.kitajenko.com/wp-content/uploads/2018/09/Philharmonie-Koeln.jpg
END:VEVENT
BEGIN:VEVENT
DTSTART;TZID=Europe/Luxembourg:20181111T111500
DTEND;TZID=Europe/Luxembourg:20181111T111500
DTSTAMP:20260421T135224
CREATED:20180913T071312Z
LAST-MODIFIED:20180913T071547Z
UID:808-1541934900-1541934900@www.kitajenko.com
SUMMARY:Gürzenich Orchester Köln & Xavier de Maistre
DESCRIPTION:Piotr Tchaikovsky: Serenade für Strings op. 48\nReinhold Glière: Harp Concerto op. 74\nAlexander Scriabin: Le Poème de l’Extase\nXavier de Maistre\, harp\nGürzenich Orchester Köln\nDmitrij Kitajenko
URL:https://www.kitajenko.com/en/event/guerzenich-orchester-koeln-xavier-de-maistre/
LOCATION:Philharmonie Köln\, Köln\, Deutschland
ATTACH;FMTTYPE=image/jpeg:https://www.kitajenko.com/wp-content/uploads/2018/09/koelner-philharmonie.jpg
END:VEVENT
BEGIN:VEVENT
DTSTART;TZID=Europe/Luxembourg:20181020T193000
DTEND;TZID=Europe/Luxembourg:20181020T193000
DTSTAMP:20260421T135224
CREATED:20180912T080009Z
LAST-MODIFIED:20180921T171433Z
UID:792-1540063800-1540063800@www.kitajenko.com
SUMMARY:Arabella Steinbacher & Qatar Philharmonic
DESCRIPTION:Felix Mendelssohn: Symphony No. 4\, Op. 90 (Italian)\nFelix Mendelssohn: Concerto in E Minor for violin and orchestra\, Op. 64\nPiotr Tchaikovsky: Capriccio Italien\, Op. 45\nArabella Steinbacher\, violin\nQatar Philharmonic Orchestra\nDmitrij Kitajenko
URL:https://www.kitajenko.com/en/event/arabella-steinbach-qatar-philharmonic/
LOCATION:Qatar Cultural Village Opera House\, Doha
ATTACH;FMTTYPE=image/jpeg:https://www.kitajenko.com/wp-content/uploads/2018/09/Qatar-Opera-house.jpg
END:VEVENT
BEGIN:VEVENT
DTSTART;TZID=Europe/Luxembourg:20180929T193000
DTEND;TZID=Europe/Luxembourg:20180929T193000
DTSTAMP:20260421T135224
CREATED:20180912T074930Z
LAST-MODIFIED:20180912T075134Z
UID:784-1538249400-1538249400@www.kitajenko.com
SUMMARY:Mahler's Eighth Symphony in Zagreb
DESCRIPTION:Symphony No 8 ‘Symphonie der Tausend / Symphony of a Thousand\nSoloists\, Ivan Goran Kovacic Academic Choir\, Ivan Filipovic Chamber Choir\, Zvjezdice Girls’ Choir\, Zagreb Philharmonic Orchestra\nDmitrij Kitajenko
URL:https://www.kitajenko.com/en/event/mahlers-eighth-symphony-in-zagreb/
LOCATION:Lisinski Concert Hall\, Trg Stjepana Radića 4\, Zagreb\, 10000\, Croatia (Local Name: Hrvatska)
ATTACH;FMTTYPE=image/jpeg:https://www.kitajenko.com/wp-content/uploads/2018/09/Lisinksi2.jpg
END:VEVENT
BEGIN:VEVENT
DTSTART;TZID=Europe/Luxembourg:20180927T193000
DTEND;TZID=Europe/Luxembourg:20180927T193000
DTSTAMP:20260421T135224
CREATED:20180911T055408Z
LAST-MODIFIED:20180912T075335Z
UID:765-1538076600-1538076600@www.kitajenko.com
SUMMARY:Mahler's Eighth Symphony in Zagreb
DESCRIPTION:Symphony No 8 ‘Symphonie der Tausend / Symphony of a Thousand\nSoloists\, Ivan Goran Kovacic Academic Choir\, Ivan Filipovic Chamber Choir\, Zvjezdice Girls’ Choir\, Zagreb Philharmonic Orchestra\nDmitrij Kitajenko
URL:https://www.kitajenko.com/en/event/mahlers-eighths-symphony-in-zagreb/
LOCATION:Lisinski Concert Hall\, Trg Stjepana Radića 4\, Zagreb\, 10000\, Croatia (Local Name: Hrvatska)
ATTACH;FMTTYPE=image/jpeg:https://www.kitajenko.com/wp-content/uploads/2018/08/zagreb-lisinski.jpg
END:VEVENT
BEGIN:VEVENT
DTSTART;TZID=Europe/Luxembourg:20180907T190000
DTEND;TZID=Europe/Luxembourg:20180907T213000
DTSTAMP:20260421T135224
CREATED:20180808T102115Z
LAST-MODIFIED:20180814T194237Z
UID:98-1536346800-1536355800@www.kitajenko.com
SUMMARY:Tonkünstler Orchestra - Grafenegg Festival
DESCRIPTION:Wolfgang Amadeus Mozart: Klavierkonzert d-Moll KV 466\nDmitri Shostakovich: Symphonie Nr. 7 op. 60 «Leningrad»\nYeol Eum Son\, Klavier\nTonkünstlerorchester Niederösterreich\nDimitrij Kitajenko
URL:https://www.kitajenko.com/en/event/dimitri-kitaenko-lilya-zilberstein-qatar-philharmonic-orchestr/
LOCATION:Grafenegg\, Wolkenturm\, Grafenegg\, Österreich
CATEGORIES:Concert
ATTACH;FMTTYPE=image/jpeg:https://www.kitajenko.com/wp-content/uploads/2018/08/qatar-opera.jpg
END:VEVENT
BEGIN:VEVENT
DTSTART;TZID=Europe/Luxembourg:20180907T070000
DTEND;TZID=Europe/Luxembourg:20180907T213000
DTSTAMP:20260421T135224
CREATED:20180814T194547Z
LAST-MODIFIED:20180816T054228Z
UID:599-1536303600-1536355800@www.kitajenko.com
SUMMARY:Tonkünstler Orchestra - Grafenegg Festival
DESCRIPTION:Wolfgang Amadeus Mozart: Concerto for Piano and Orchestra in d minor KV 466\nDmitri Shostakovich: Symphony No. 7 in C major op. 60 «Leningrad»\nYeol Eum Son\, piano\nTonkünstlerorchester Niederösterreich\nDimitrij Kitajenko
URL:https://www.kitajenko.com/en/event/tonkuenstler-orchestra-grafenegg-festival/
LOCATION:Grafenegg\, Wolkenturm\, Grafenegg\, Österreich
ATTACH;FMTTYPE=image/jpeg:https://www.kitajenko.com/wp-content/uploads/2018/08/wien.jpg
END:VEVENT
END:VCALENDAR